BEGIN:VCALENDAR
VERSION:2.0
PRODID:-//IES NTRA. SRA. DE LOS REMEDIOS - ECPv5.5.0.1//NONSGML v1.0//EN
CALSCALE:GREGORIAN
METHOD:PUBLISH
X-WR-CALNAME:IES NTRA. SRA. DE LOS REMEDIOS
X-ORIGINAL-URL:https://web.ieslosremedios.org
X-WR-CALDESC:Eventos para IES NTRA. SRA. DE LOS REMEDIOS
BEGIN:VTIMEZONE
TZID:Europe/Madrid
BEGIN:DAYLIGHT
TZOFFSETFROM:+0100
TZOFFSETTO:+0200
TZNAME:CEST
DTSTART:20220327T010000
END:DAYLIGHT
BEGIN:STANDARD
TZOFFSETFROM:+0200
TZOFFSETTO:+0100
TZNAME:CET
DTSTART:20221030T010000
END:STANDARD
END:VTIMEZONE
BEGIN:VEVENT
DTSTART;VALUE=DATE:20220915
DTEND;VALUE=DATE:20220916
DTSTAMP:20260424T104707
CREATED:20220527T083355Z
LAST-MODIFIED:20220905T122322Z
UID:14878-1663200000-1663286399@web.ieslosremedios.org
SUMMARY:Comienzo del curso 2022/2023
DESCRIPTION:Relacionado
URL:https://web.ieslosremedios.org/event/comienzo-del-curso-2022-2023
END:VEVENT
END:VCALENDAR