BEGIN:VCALENDAR
VERSION:2.0
PRODID:-//IES NTRA. SRA. DE LOS REMEDIOS - ECPv5.5.0.1//NONSGML v1.0//EN
CALSCALE:GREGORIAN
METHOD:PUBLISH
X-WR-CALNAME:IES NTRA. SRA. DE LOS REMEDIOS
X-ORIGINAL-URL:https://web.ieslosremedios.org
X-WR-CALDESC:Eventos para IES NTRA. SRA. DE LOS REMEDIOS
BEGIN:VTIMEZONE
TZID:Europe/Madrid
BEGIN:DAYLIGHT
TZOFFSETFROM:+0100
TZOFFSETTO:+0200
TZNAME:CEST
DTSTART:20190331T010000
END:DAYLIGHT
BEGIN:STANDARD
TZOFFSETFROM:+0200
TZOFFSETTO:+0100
TZNAME:CET
DTSTART:20191027T010000
END:STANDARD
END:VTIMEZONE
BEGIN:VEVENT
DTSTART;TZID=Europe/Madrid:20190130T120000
DTEND;TZID=Europe/Madrid:20190130T123000
DTSTAMP:20260423T124237
CREATED:20190125T115603Z
LAST-MODIFIED:20190129T123235Z
UID:5537-1548849600-1548851400@web.ieslosremedios.org
SUMMARY:Coreografía “Bailar un vals” de El Kanka
DESCRIPTION:CódigoActividad:\n26\n\n\nPlanificación Nº:\n\n\n\nTítulo:\nCoreografía “Bailar un vals” de El Kanka\n\n\nCursos Implicados:\n1ESO\, 2ESO\n\n\nEspecialidad:\nTodos los grupos\n\n\nFechas Celebración:\nMiércoles 30 de enero 2019\n\n\nLugar Celebración:\nPabellón\n\n\nHorarios:\n12:00 – 12:15 H\n\n\nTramo Horario: \n(Marcar X casilla correspondiente)\n1º\n2º\n3º\nR\n4º\n5º\n6º\n\n\n\n\n\n\nX\n\n\n\n\nOrganiza:  \nProyecto Ubrique Blanco de Paz\n\n\nCoordina:\nEva Calvente\n\n\nTotal Horas Lectivas:  \n¼ Hora\n\n\nDescripción: \nCoreografía de la canción de El Kanka “Bailar un vals”.\n\n\nNº Alumnos Participantes\n200\n\n\nProfesorado Acompañante: \nProfesores afectados\n\n\nProfesorado Afectado: \n\n\n\nObservaciones:\nLos profesores afectados llevarán a los niños al patio a ser posible unos diez minutos antes de que empiece el acto.\n\n\nDocumentos Adjuntos:\n\n\n\nCalendario DACE\nhttps://goo.gl/bVtkAt\n\n\n\ntweet compartir compartir \n\n	Relacionado
URL:https://web.ieslosremedios.org/event/coreografia-bailar-un-vals-de-el-kanka
LOCATION:IES Los Remedios
CATEGORIES:Actividades,Instituto
END:VEVENT
END:VCALENDAR