BEGIN:VCALENDAR
VERSION:2.0
PRODID:-//IES NTRA. SRA. DE LOS REMEDIOS - ECPv5.5.0.1//NONSGML v1.0//EN
CALSCALE:GREGORIAN
METHOD:PUBLISH
X-WR-CALNAME:IES NTRA. SRA. DE LOS REMEDIOS
X-ORIGINAL-URL:https://web.ieslosremedios.org
X-WR-CALDESC:Eventos para IES NTRA. SRA. DE LOS REMEDIOS
BEGIN:VTIMEZONE
TZID:Europe/Madrid
BEGIN:DAYLIGHT
TZOFFSETFROM:+0100
TZOFFSETTO:+0200
TZNAME:CEST
DTSTART:20230326T010000
END:DAYLIGHT
BEGIN:STANDARD
TZOFFSETFROM:+0200
TZOFFSETTO:+0100
TZNAME:CET
DTSTART:20231029T010000
END:STANDARD
END:VTIMEZONE
BEGIN:VEVENT
DTSTART;TZID=Europe/Madrid:20230519T100000
DTEND;TZID=Europe/Madrid:20230519T100000
DTSTAMP:20260424T104421
CREATED:20230517T083604Z
LAST-MODIFIED:20230517T083636Z
UID:16613-1684490400-1684490400@web.ieslosremedios.org
SUMMARY:LAS TROYANAS
DESCRIPTION:El próximo viernes 19 de mayo\, a las 10 de la mañana\, tendremos en nuestro salón de actos la representación de la obra “Las troyanas”\, de Eurípides y Séneca\, a cargo del grupo de teatro clásico Phersu\, de la Universidad de Cádiz.  \n \n\n\n	Relacionado
URL:https://web.ieslosremedios.org/event/las-troyanas
CATEGORIES:Actividades,Instituto
END:VEVENT
END:VCALENDAR