BEGIN:VCALENDAR
VERSION:2.0
PRODID:-//IES NTRA. SRA. DE LOS REMEDIOS - ECPv5.5.0.1//NONSGML v1.0//EN
CALSCALE:GREGORIAN
METHOD:PUBLISH
X-WR-CALNAME:IES NTRA. SRA. DE LOS REMEDIOS
X-ORIGINAL-URL:https://web.ieslosremedios.org
X-WR-CALDESC:Eventos para IES NTRA. SRA. DE LOS REMEDIOS
BEGIN:VTIMEZONE
TZID:Europe/Madrid
BEGIN:DAYLIGHT
TZOFFSETFROM:+0100
TZOFFSETTO:+0200
TZNAME:CEST
DTSTART:20220327T010000
END:DAYLIGHT
BEGIN:STANDARD
TZOFFSETFROM:+0200
TZOFFSETTO:+0100
TZNAME:CET
DTSTART:20221030T010000
END:STANDARD
END:VTIMEZONE
BEGIN:VEVENT
DTSTART;VALUE=DATE:20220209
DTEND;VALUE=DATE:20220211
DTSTAMP:20260421T155815
CREATED:20220124T193935Z
LAST-MODIFIED:20220124T193935Z
UID:14183-1644364800-1644537599@web.ieslosremedios.org
SUMMARY:Maquillaje de Carnaval
DESCRIPTION:Tabla 1\n\n\n	Código Actividad:25\n\n\n	Planificación Nº:\n\n\n	Título:Maquillaje Carnaval\n\n\n	Cursos Implicados:2ºESO (Todos los grupos)\n\n\n	Especialidad:Proyecto de Innovación educativa. ColoreArte\n\n\n	Fechas Celebración:9 y 10 de febrero 2022 (2ª-3ª-4ª y 5ª hora)\n\n\n	Lugar Celebración:Aula\n\n\n	Organiza:Departamento de Innovación\n\n\n	Coordina:Juan Aguilera y Gema Casillas\n\n\n	Total Horas Lectivas:4\n\n\n	Descripción:Taller realizado a cargo de la empresa Camerino de Artes y Horrores\, que realizará una masterclass sobre su trabajo de maquillaje desarrollado en el carnaval de Cádiz\, donde ha colaborado con artistas de la talla de Martínez Ares en el maquillaje de sus comparsas.\n\n\n	Nº Alumnos Participantes80\n\n\n	Profesorado Acompañante:Profesor afectado que deberá permanecer en el aula.\n\n\n	Profesorado Afectado:\n\n\n	Observaciones:\n\n\n	Documentos Adjuntos:\n\n\n	Calendario DACEgoo.gl/A4syFn\n\n\n	\n\n\n\n\n\n\n	Relacionado
URL:https://web.ieslosremedios.org/event/maquillaje-de-carnaval
CATEGORIES:Actividades,Instituto
END:VEVENT
END:VCALENDAR