BEGIN:VCALENDAR
VERSION:2.0
PRODID:-//IES NTRA. SRA. DE LOS REMEDIOS - ECPv5.5.0.1//NONSGML v1.0//EN
CALSCALE:GREGORIAN
METHOD:PUBLISH
X-WR-CALNAME:IES NTRA. SRA. DE LOS REMEDIOS
X-ORIGINAL-URL:https://web.ieslosremedios.org
X-WR-CALDESC:Eventos para IES NTRA. SRA. DE LOS REMEDIOS
BEGIN:VTIMEZONE
TZID:Europe/Madrid
BEGIN:DAYLIGHT
TZOFFSETFROM:+0100
TZOFFSETTO:+0200
TZNAME:CEST
DTSTART:20190331T010000
END:DAYLIGHT
BEGIN:STANDARD
TZOFFSETFROM:+0200
TZOFFSETTO:+0100
TZNAME:CET
DTSTART:20191027T010000
END:STANDARD
END:VTIMEZONE
BEGIN:VEVENT
DTSTART;TZID=Europe/Madrid:20190327T103000
DTEND;TZID=Europe/Madrid:20190327T130000
DTSTAMP:20260421T150352
CREATED:20190325T121145Z
LAST-MODIFIED:20190325T121448Z
UID:6532-1553682600-1553691600@web.ieslosremedios.org
SUMMARY:Perfiles en el desarrollo de Aplicaciones Informáticas / Desarrollo de un videojuego
DESCRIPTION:Código Actividad:\n44\n\n\nPlanificación Nº:\nNO PLANIFICADA\n\n\nTítulo:\nPerfiles en el desarrollo de Aplicaciones Informáticas\n\n\nCursos Implicados:\n1ºDAW\n\n\nEspecialidad:\nInformática\n\n\nFechas Celebración:\nmiércoles 27 de marzo 2019\n\n\nLugar Celebración:\nAula de 1º DAW\n\n\nHorarios:\n10:30 H\n\n\nTramo Horario: \n(Marcar X casilla correspondiente)\n1º\n2º\n3º\nR\n4º\n5º\n6º\n\n\n\n\nx\n\n\n\n\n\n\nOrganiza: \nDPTO ORIENTACIÓN E INFORMÁTICA\n\n\nCoordina:\nPilar Ramírez Pérez\n\n\nTotal Horas Lectivas: \n1 hora\n\n\nDescripción:\nCharla de la UCA\n\n\nNº Alumnos Participantes\n20\n\n\nProfesorado Acompañante:\nJuan Carlos Moreno Jiménez\n\n\nProfesorado Afectado:\n\n\n\nObservaciones:\nOtros grupos interesados podrán venir a la actividad\n\n\nDocumentos Adjuntos:\n\n\n\nCalendario DACE\ngoo.gl/A4syFn\n\n\n\n\n\n\nCódigo Actividad:\n45\n\n\nPlanificación Nº:\nNO PLANIFICADA\n\n\nTítulo:\nDesarrollo de un videojuego\n\n\nCursos Implicados:\n1DAW\n\n\nEspecialidad:\nInformática\n\n\nFechas Celebración:\nMiércoles 27 de marzo 2019\n\n\nLugar Celebración:\nAula de 1º DAW\n\n\nHorarios:\n12:00 H\n\n\nTramo Horario: \n(Marcar X casilla correspondiente)\n1º\n2º\n3º\nR\n4º\n5º\n6º\n\n\n \n \n \n \nx\n \n \n\n\nOrganiza: \nDepartamento de Orientación e Informática\n\n\nCoordina:\nPilar Ramírez Pérez\n\n\nTotal Horas Lectivas: \n1 hora\n\n\nDescripción:\nCharla de la UCA\n\n\nNº Alumnos Participantes\nTodos\n\n\nProfesorado Acompañante:\nJuan Carlos Moreno Jiménez\n\n\nProfesorado Afectado:\n \n\n\nObservaciones:\nOtros grupos interesados pueden asistir a la atividad\n\n\nDocumentos Adjuntos:\n \n\n\nCalendario DACE\ngoo.gl/A4syFn\n\n\n\ntweet compartir compartir \n\n	Relacionado
URL:https://web.ieslosremedios.org/event/perfiles-en-el-desarrollo-de-aplicaciones-informaticas
CATEGORIES:Actividades,Instituto
END:VEVENT
END:VCALENDAR