BEGIN:VCALENDAR
VERSION:2.0
PRODID:-//IES NTRA. SRA. DE LOS REMEDIOS - ECPv5.5.0.1//NONSGML v1.0//EN
CALSCALE:GREGORIAN
METHOD:PUBLISH
X-WR-CALNAME:IES NTRA. SRA. DE LOS REMEDIOS
X-ORIGINAL-URL:https://web.ieslosremedios.org
X-WR-CALDESC:Eventos para IES NTRA. SRA. DE LOS REMEDIOS
BEGIN:VTIMEZONE
TZID:Europe/Madrid
BEGIN:DAYLIGHT
TZOFFSETFROM:+0100
TZOFFSETTO:+0200
TZNAME:CEST
DTSTART:20240331T010000
END:DAYLIGHT
BEGIN:STANDARD
TZOFFSETFROM:+0200
TZOFFSETTO:+0100
TZNAME:CET
DTSTART:20241027T010000
END:STANDARD
END:VTIMEZONE
BEGIN:VEVENT
DTSTART;VALUE=DATE:20240129
DTEND;VALUE=DATE:20240201
DTSTAMP:20260424T153602
CREATED:20240116T124559Z
LAST-MODIFIED:20240116T124559Z
UID:17614-1706486400-1706745599@web.ieslosremedios.org
SUMMARY:Viaje a Madrid
DESCRIPTION:Código Actividad19\n\n\n	Nº Planificación 243\n\n\n	Título:Excursión a Madrid\n\n\n	DescripciónSe trata de un viaje cultural para conocer la capital con un guía\, paseando por el Alcázar de Madrid y el Palacio Real\, aprender acerca de las principales obras que alberga el museo del Prado con la asistencia de un guía\, visitar el museo de las ilusiones y enriquecer el programa asistiendo al musical ""El libro del mormón.\n\n\n	Jornadas3\n\n\n	Fecha CelebraciónLunes 29 enero 2023\n\n\n	Fecha Fin *Miércoles 31 enero 2023\n\n\n	HorariosDía completo\n\n\n	Cursos implicados1BACH\n\n\n	EspecialidadFilosofía\n\n\n	Número de alumnos49\n\n\n	Lugar celebraciónMadrid\n\n\n	Observaciones tramo horario\n\n\n	DepartamentoFilosofía\n\n\n	CoordinadorIrene Morales Jiménez\n\n\n	Profesores participantesIrene Morales Jiménez\n\n\n	Esther Aguilera Parejo\n\n\n	Diego Linares Ortiz\n\n\n	Javier Moreno Riestra\n\n\n	Profesores afectadosImparten clase al resto de alumnos no participantes en la actividad\n\n\n	Horas Lectivas18\n\n\n	ObservacionesVuelven a clase el jueves 1 de febrero\n\n\n\n\n\n\n	Relacionado
URL:https://web.ieslosremedios.org/event/viaje-a-madrid
CATEGORIES:Actividades,Instituto
END:VEVENT
END:VCALENDAR