BEGIN:VCALENDAR
VERSION:2.0
PRODID:-//IES NTRA. SRA. DE LOS REMEDIOS - ECPv5.5.0.1//NONSGML v1.0//EN
CALSCALE:GREGORIAN
METHOD:PUBLISH
X-WR-CALNAME:IES NTRA. SRA. DE LOS REMEDIOS
X-ORIGINAL-URL:https://web.ieslosremedios.org
X-WR-CALDESC:Eventos para IES NTRA. SRA. DE LOS REMEDIOS
BEGIN:VTIMEZONE
TZID:Europe/Madrid
BEGIN:DAYLIGHT
TZOFFSETFROM:+0100
TZOFFSETTO:+0200
TZNAME:CEST
DTSTART:20190331T010000
END:DAYLIGHT
BEGIN:STANDARD
TZOFFSETFROM:+0200
TZOFFSETTO:+0100
TZNAME:CET
DTSTART:20191027T010000
END:STANDARD
END:VTIMEZONE
BEGIN:VEVENT
DTSTART;VALUE=DATE:20190327
DTEND;VALUE=DATE:20190328
DTSTAMP:20260420T121528
CREATED:20190325T100824Z
LAST-MODIFIED:20190325T100824Z
UID:6509-1553644800-1553731199@web.ieslosremedios.org
SUMMARY:XVII FESTIVAL JUVENIL DE TEATRO GRECOLATINO
DESCRIPTION:CódigoActividad:\n42\n\n\nPlanificación Nº:\n96\n\n\nTítulo:\nXVII FESTIVAL JUVENIL DE TEATRO GRECOLATINO\n\n\nCursos Implicados:\n4ESOC\, 1BACHB\, 2BACHB\, 2BACHC\n\n\nEspecialidad:\nLatín\, Griego\, Humanidades y Literatura Universal\n\n\nFechas Celebración:\nMiércoles 27 de marzo 2019\n\n\nLugar Celebración:\nMálaga\n\n\nHorarios:\n Desde 8:00 h. a 21:00 h.\n\n\nTramo Horario: \n(Marcar X casilla correspondiente)\n1º\n2º\n3º\nR\n4º\n5º\n6º\n\n\nX\nX\nX\nX\nX\nX\nX\n\n\nOrganiza:  \nDEPARTAMENTOS DE LATÍN Y GRIEGO\n\n\nCoordina:\nJosefa Gómez Hidalgo\n\n\nTotal Horas Lectivas:  \n6\n\n\nDescripción: \nRepresentación del Hipólito de Eurípides y Menaechmi de Plauto en el teatro romano de Málaga. \nVisita casco antiguo de Málaga.\n\n\nNº Alumnos Participantes\n51\n\n\nProfesorado Acompañante: \nEsperanza Trujillo Sánchez \nJosefa Gómez Hidalgo \nMarta Plaza Gavilán.\n\n\nProfesorado Afectado: \nImparten clase al resto de alumnos que no participan en la actividad.\n\n\nObservaciones:\n \n\n\nDocumentos Adjuntos:\nListado de alumnos que participan en la actividad\n\n\nCalendario DACE\ngoo.gl/A4syFn\n\n\n\ntweet compartir compartir \n\n	Relacionado
URL:https://web.ieslosremedios.org/event/xvii-festival-juvenil-de-teatro-grecolatino
CATEGORIES:Actividades,Instituto
END:VEVENT
END:VCALENDAR