BEGIN:VCALENDAR
VERSION:2.0
PRODID:-//IES NTRA. SRA. DE LOS REMEDIOS - ECPv5.5.0.1//NONSGML v1.0//EN
CALSCALE:GREGORIAN
METHOD:PUBLISH
X-WR-CALNAME:IES NTRA. SRA. DE LOS REMEDIOS
X-ORIGINAL-URL:https://web.ieslosremedios.org
X-WR-CALDESC:Eventos para IES NTRA. SRA. DE LOS REMEDIOS
BEGIN:VTIMEZONE
TZID:Europe/Madrid
BEGIN:DAYLIGHT
TZOFFSETFROM:+0100
TZOFFSETTO:+0200
TZNAME:CEST
DTSTART:20180325T010000
END:DAYLIGHT
BEGIN:STANDARD
TZOFFSETFROM:+0200
TZOFFSETTO:+0100
TZNAME:CET
DTSTART:20181028T010000
END:STANDARD
END:VTIMEZONE
BEGIN:VEVENT
DTSTART;VALUE=DATE:20181122
DTEND;VALUE=DATE:20181130
DTSTAMP:20260425T154332
CREATED:20181030T143606Z
LAST-MODIFIED:20181128T092437Z
UID:2633-1542844800-1543535999@web.ieslosremedios.org
SUMMARY:Intercambio 1
DESCRIPTION:Seguimos organizando el intercambio con St Bede’s School\, de Redhill\, Inglaterra.\nEn esta ocasión\, participan 23 alumnos de 3º de ESO. \nEl grupo inglés nos visitará del 22 al 29 de noviembre.\nNosotros viajamos a Reino Unido del 28 de marzo al 4 de abril. \n \nIntercambio con St Bede’s – Actividades en Andalucía \nUbrique\, del 22 al 29 de noviembre 2018 \nJueves\, 22 de noviembre: \n16:00: Entrada a la plaza de toros de Ronda.   \n17:30: Salida hacia Ubrique.   19:00: Llegada a Ubrique. \n\nViernes\, 23 de noviembre:  \n8:30: Bienvenida en el salón de actos            \n9:30: Gincana por Ubrique.  (Sólo el grupo inglés). \n12.00 Visita al Museo de la Piel. \n13:30: Breve paseo por  el casco antiguo de Ubrique. \n\nSábado 24 y domingo\, 25: Días en familia. \nPretendiendo que los alumnos realmente convivan con una familia española\, hemos dejado el fin de semana completo para las familias.  \n\nLunes\, 26 de noviembre: Día en Sevilla   \n8:30: Salida desde la parada de autobuses.  \n11:00 Visita a los Reales Alcázares de Sevilla. \nhttp://www.alcazarsevilla.org/ \n13:00 Visita a la catedral de Sevilla \nhttp://www.catedraldesevilla.es/ \n16:00 Visita al centro de la ciudad\, Jardines de Murillo y Plaza de España. \n20:00 Llegada aproximada a  Ubrique \n\nMartes\, 27: Día en Ubrique  \n10:30: Visita a la exposición en la iglesia San Juan de Letrán. (Sólo el grupo inglés) \n13:00: Salimos hacia Ocuri: Paella en la venta y a las 16.00 visita Ciudad Romana de Ocuri. \n18:00 Vuelta a Ubrique \n\nMiércoles\, 28: Día en Cádiz  \n08:30: Salida de la parada de autobuses. \n10:45: Visita a la Torre Tavira y paseo por el centro de la ciudad \n16:00 Visita del grupo inglés al yacimiento fenicio Gadir \n17:00: Visita del grupo español al yacimiento fenicio Gadir \n20:00 Llegada aproximada a Ubrique \n\nJueves\, 29: Despedida \n9:30: Despedida. \n 
URL:https://web.ieslosremedios.org/event/intercambio-inglaterra
LOCATION:IES Los Remedios
CATEGORIES:Actividades
END:VEVENT
BEGIN:VEVENT
DTSTART;VALUE=DATE:20181129
DTEND;VALUE=DATE:20181130
DTSTAMP:20260425T154332
CREATED:20181127T113040Z
LAST-MODIFIED:20181127T125406Z
UID:4244-1543449600-1543535999@web.ieslosremedios.org
SUMMARY:CYBERCAMP 2018
DESCRIPTION:Código Actividad:\n17\n\n\nPlanificación Nº:\nNO PLANIFICADA\n\n\nTítulo:\nCYBERCAMP 2018\n\n\nCursos Implicados:\n1ºDAW\, 2ºDAW\, 2ºSMR\n\n\nEspecialidad:\nFP\n\n\nFechas Celebración:\nJueves 29 noviembre 2018\n\n\nLugar Celebración:\nMálaga (Edificio Tabacalera)\n\n\nHorarios:\n8:30 a 19:00\n\n\nTramo Horario: \n(Marcar X casilla correspondiente)\n1º\n2º\n3º\nR\n4º\n5º\n6º\n\n\nx\nx\nx\nx\nx\nx\nx\n\n\nOrganiza: \nDepartamento de Informática\n\n\nCoordina:\nJuan Castillo Barco\n\n\nTotal Horas Lectivas: \n6\n\n\nDescripción:\nEvento de ciberseguridad anual organizado por el Instituto Nacional de Ciberseguridad de España\n\n\nNº Alumnos Participantes\n24\n\n\nProfesorado Acompañante:\nJavier García\, Juan Gallego y Juan Castillo Barco\n\n\nProfesorado Afectado:\n\n\n\nObservaciones:\n\n\n\nDocumentos Adjuntos:\n\n\n\nCalendario DACE\ngoo.gl/A4syFn
URL:https://web.ieslosremedios.org/event/cybercamp-2018
LOCATION:Málaga
CATEGORIES:Actividades,Externas
ATTACH;FMTTYPE=image/jpeg:https://web.ieslosremedios.org/wp-content/uploads/2018/11/cybercamp.jpg
END:VEVENT
END:VCALENDAR