BEGIN:VCALENDAR
VERSION:2.0
PRODID:-//IES NTRA. SRA. DE LOS REMEDIOS - ECPv5.5.0.1//NONSGML v1.0//EN
CALSCALE:GREGORIAN
METHOD:PUBLISH
X-WR-CALNAME:IES NTRA. SRA. DE LOS REMEDIOS
X-ORIGINAL-URL:https://web.ieslosremedios.org
X-WR-CALDESC:Eventos para IES NTRA. SRA. DE LOS REMEDIOS
BEGIN:VTIMEZONE
TZID:Europe/Madrid
BEGIN:DAYLIGHT
TZOFFSETFROM:+0100
TZOFFSETTO:+0200
TZNAME:CEST
DTSTART:20180325T010000
END:DAYLIGHT
BEGIN:STANDARD
TZOFFSETFROM:+0200
TZOFFSETTO:+0100
TZNAME:CET
DTSTART:20181028T010000
END:STANDARD
END:VTIMEZONE
BEGIN:VEVENT
DTSTART;TZID=Europe/Madrid:20181220T093000
DTEND;TZID=Europe/Madrid:20181220T233000
DTSTAMP:20260425T160634
CREATED:20181217T095603Z
LAST-MODIFIED:20181217T095603Z
UID:4846-1545298200-1545348600@web.ieslosremedios.org
SUMMARY:Gymkhana 2018
DESCRIPTION:Código Actividad:\n21\n\n\nPlanificación Nº:\n73\n\n\nTítulo:\nGymkhana Los Remedios\n\n\nCursos Implicados:\n1ºESO\, 2ºESO\, 3ºESO\n\n\nEspecialidad:\nInterdisciplinar\n\n\nFechas Celebración:\nJueves\, 20 de diciembre\n\n\nLugar Celebración:\nEn el instituto\n\n\nHorarios:\n9:30 – 10:30 – 3ESO \n10:30  –  11:30 – 1ESO\, 2ESO\n\n\nTramo Horario: \n(Marcar X casilla correspondiente)\n1º\n2º\n3º\nR\n4º\n5º\n6º\n\n\n \n3ESO\n1ESO \n2ESO\n \n \n \n \n\n\nOrganiza:  \nDepartamento de Inglés\n\n\nCoordina:\nDiego Guerrero Aragón\n\n\nTotal Horas Lectivas:  \n1\n\n\nDescripción: \nCada subgrupo tendrá que completar una prueba en cada departamento que participa.\n\n\nNº Alumnos Participantes\n250 aproximadamente\n\n\nProfesorado Acompañante: \nParticipan muchos profesores\n\n\nProfesorado Afectado: \nTodos los que imparten clase a 1º Y 2º ESO a tercera hora. \nEl profesorado afectado en su mayoría estará en su departamento con las pruebas.\n\n\nObservaciones:\n \n\n\nDocumentos Adjuntos:\n \n\n\nCalendario DACE\ngoo.gl/A4syFn
URL:https://web.ieslosremedios.org/event/gymkhana-2018
LOCATION:IES Los Remedios
CATEGORIES:Actividades
END:VEVENT
BEGIN:VEVENT
DTSTART;TZID=Europe/Madrid:20181220T120000
DTEND;TZID=Europe/Madrid:20181220T150000
DTSTAMP:20260425T160634
CREATED:20181213T113848Z
LAST-MODIFIED:20181213T130059Z
UID:4546-1545307200-1545318000@web.ieslosremedios.org
SUMMARY:Concierto Navidad
DESCRIPTION:Código Actividad:\n18\n\n\nPlanificación Nº:\n107\n\n\nTítulo:\nConcierto de Navidad 2018\n\n\nCursos Implicados:\n1ºESO\, 2ºESO\, 4ºESO\n\n\nEspecialidad:\nMúsica\n\n\nFechas Celebración:\nJueves 20 de diciembre\n\n\nLugar Celebración:\nSalón de actos\n\n\nHorarios:\n12:00 a 15:00\n\n\nTramo Horario: \n(Marcar X casilla correspondiente)\n1º\n2º\n3º\nR\n4º\n5º\n6º\n\n\n\n\n\n\nx\nx\nx\n\n\nOrganiza:  \nDepartamento de Música\n\n\nCoordina:\nRosado Ruíz\, Mª del Pilar\n\n\nTotal Horas Lectivas:  \n3\n\n\nDescripción: \n\n\n\nNº Alumnos Participantes\n140\n\n\nProfesorado Acompañante: \nProfesores afectados\n\n\nProfesorado Afectado: \n Acompañan a sus alumnos a la actividad\n\n\nObservaciones:\nLos profesores acompañantes deberán velar por el buen comportamiento de sus alumnos\n\n\nDocumentos Adjuntos:\n\n\n\nCalendario DACE\nhttps://goo.gl/bVtkAt
URL:https://web.ieslosremedios.org/event/concierto-navidad
LOCATION:Salón de Actos IES
CATEGORIES:Actividades
END:VEVENT
END:VCALENDAR