BEGIN:VCALENDAR
VERSION:2.0
PRODID:-//IES NTRA. SRA. DE LOS REMEDIOS - ECPv5.5.0.1//NONSGML v1.0//EN
CALSCALE:GREGORIAN
METHOD:PUBLISH
X-WR-CALNAME:IES NTRA. SRA. DE LOS REMEDIOS
X-ORIGINAL-URL:https://web.ieslosremedios.org
X-WR-CALDESC:Eventos para IES NTRA. SRA. DE LOS REMEDIOS
BEGIN:VTIMEZONE
TZID:Europe/Madrid
BEGIN:DAYLIGHT
TZOFFSETFROM:+0100
TZOFFSETTO:+0200
TZNAME:CEST
DTSTART:20240331T010000
END:DAYLIGHT
BEGIN:STANDARD
TZOFFSETFROM:+0200
TZOFFSETTO:+0100
TZNAME:CET
DTSTART:20241027T010000
END:STANDARD
END:VTIMEZONE
BEGIN:VEVENT
DTSTART;VALUE=DATE:20240604
DTEND;VALUE=DATE:20240607
DTSTAMP:20260423T063714
CREATED:20240530T111135Z
LAST-MODIFIED:20240530T113617Z
UID:18177-1717459200-1717718399@web.ieslosremedios.org
SUMMARY:Viaje 1ºESO
DESCRIPTION:Código Actividad87\n\n\n	Nº Planificación\n\n\n	Título:Viaje Fin de Curso 1ESO - Chipiona\n\n\n	DescripciónViaje fin de curso con actividades náuticas y culturales en el Albergue Inturjoven de Chipiona y finalización en Cádiz.\n\n\n	Jornadas3\n\n\n	FechaMartes 4 junio 2024\n\n\n	Fecha FinalizaciónJueves 6 junio 2024\n\n\n	HorariosDías completo\n\n\n	Cursos implicados1ESO – Todos los grupos\n\n\n	Especialidad\n\n\n	Número de alumnos66\n\n\n	Lugar celebraciónChipiona\n\n\n	Observaciones tramo horario\n\n\n	DepartamentoReligión\n\n\n	CoordinadorNoelia Rojas Viruez\n\n\n	Profesores participantesJavier García Escobedo\n\n\n	Manuel Galán Cordero\n\n\n	Sonia Morcuende  Timón\n\n\n	Lidia Ramos Santamaría\n\n\n	Profesores afectadosImparten clase al resto del alumnado que no participa en la actividad\n\n\n	Horas Lectivas18\n\n\n	ObservacionesCoordina también María del Rosario Jiménez Torres\n\n\n	Archivos\n\n\n	Calendario DACEhttps://bit.ly/3satXSn\n\n\n	(Pulsar para agregar)
URL:https://web.ieslosremedios.org/event/viaje-1oeso
CATEGORIES:Actividades,Instituto
END:VEVENT
BEGIN:VEVENT
DTSTART;VALUE=DATE:20240604
DTEND;VALUE=DATE:20240607
DTSTAMP:20260423T063714
CREATED:20240530T111357Z
LAST-MODIFIED:20240530T115144Z
UID:18182-1717459200-1717718399@web.ieslosremedios.org
SUMMARY:Viaje 2º ESO
DESCRIPTION:Código Actividad88\n\n\n	Nº Planificación\n\n\n	Título:Viaje Fin de Curso 2ESO - Torremolinos\n\n\n	DescripciónViaje fin de curso con actividades náuticas y culturales en el Albergue Inturjoven de Torremolinos.\n\n\n	Jornadas3\n\n\n	FechaMartes 4 junio 2024\n\n\n	Fecha FinalizaciónJueves 6 junio 2024\n\n\n	HorariosDías completo\n\n\n	Cursos implicados2ESO – Todos los grupos\n\n\n	Especialidad\n\n\n	Número de alumnos62\n\n\n	Lugar celebraciónTorremolinos\n\n\n	Observaciones tramo horario\n\n\n	DepartamentoReligión\n\n\n	CoordinadorNoelia Rojas Viruez\n\n\n	Profesores participantesCinthya Gamarro Salido\n\n\n	Pilar López Fernández\n\n\n	Sonia Olid Cordero\n\n\n	Fernando Ruiz López\n\n\n	Profesores afectadosImparten clase al resto del alumnado que no participa en la actividad\n\n\n	Horas Lectivas18\n\n\n	ObservacionesCoordina también María del Rosario Jiménez Torres\n\n\n	Archivos\n\n\n	Calendario DACEhttps://bit.ly/3satXSn\n\n\n	(Pulsar para agregar)
URL:https://web.ieslosremedios.org/event/viaje-2o-eso
CATEGORIES:Actividades,Instituto
END:VEVENT
BEGIN:VEVENT
DTSTART;VALUE=DATE:20240604
DTEND;VALUE=DATE:20240607
DTSTAMP:20260423T063714
CREATED:20240530T111529Z
LAST-MODIFIED:20240530T111529Z
UID:18186-1717459200-1717718399@web.ieslosremedios.org
SUMMARY:Viaje 3ºESO
DESCRIPTION:Código Actividad89\n\n\n	Nº Planificación\n\n\n	Título:Viaje Fin de Curso 3ESO – Punta Umbría\n\n\n	DescripciónViaje fin de curso con actividades náuticas  y senderismo en el Albergue Inturjoven de Punta Umbría.\n\n\n	Jornadas3\n\n\n	FechaMartes 4 junio 2024\n\n\n	Fecha FinalizaciónJueves 6 junio 2024\n\n\n	HorariosDías completo\n\n\n	Cursos implicados3ESO – Todos los grupos\n\n\n	Especialidad\n\n\n	Número de alumnos57\n\n\n	Lugar celebraciónPunta Umbría\n\n\n	Observaciones tramo horario\n\n\n	DepartamentoReligión\n\n\n	CoordinadorNoelia Rojas Viruez\n\n\n	Profesores participantesALEJANDRO ANGULO (PTIS)\n\n\n	MARÍA ROSARIO JIMÉNEZ TORRES\n\n\n	ISABEL OLMEDO BELLIDO\n\n\n	NOELIA ROJAS VIRUEZ\n\n\n	PILAR ROSADO RUUIZ\n\n\n	Profesores afectadosImparten clase al resto del alumnado que no participa en la actividad\n\n\n	Horas Lectivas18\n\n\n	ObservacionesCoordina también María del Rosario Jiménez Torres\n\n\n	Archivos\n\n\n	Calendario DACEhttps://bit.ly/3satXSn\n\n\n	(Pulsar para agregar)
URL:https://web.ieslosremedios.org/event/viaje-3oeso
CATEGORIES:Actividades,Instituto
END:VEVENT
END:VCALENDAR