BEGIN:VCALENDAR
VERSION:2.0
PRODID:-//IES NTRA. SRA. DE LOS REMEDIOS - ECPv5.5.0.1//NONSGML v1.0//EN
CALSCALE:GREGORIAN
METHOD:PUBLISH
X-WR-CALNAME:IES NTRA. SRA. DE LOS REMEDIOS
X-ORIGINAL-URL:https://web.ieslosremedios.org
X-WR-CALDESC:Eventos para IES NTRA. SRA. DE LOS REMEDIOS
BEGIN:VTIMEZONE
TZID:Europe/Madrid
BEGIN:DAYLIGHT
TZOFFSETFROM:+0100
TZOFFSETTO:+0200
TZNAME:CEST
DTSTART:20190331T010000
END:DAYLIGHT
BEGIN:STANDARD
TZOFFSETFROM:+0200
TZOFFSETTO:+0100
TZNAME:CET
DTSTART:20191027T010000
END:STANDARD
END:VTIMEZONE
BEGIN:VEVENT
DTSTART;VALUE=DATE:20190603
DTEND;VALUE=DATE:20190606
DTSTAMP:20260424T191352
CREATED:20190321T114522Z
LAST-MODIFIED:20190521T053305Z
UID:6432-1559520000-1559779199@web.ieslosremedios.org
SUMMARY:Exámenes presenciales de junio'19 -FP a distancia-
DESCRIPTION:Calendario oficial (pdf pincha aquí) \n3\,4\,5 de junio y Martes 11 de junio de 2019 \nCentros de referencia \nEl alumnado podrá presentarse en cualquiera de las sedes indicadas más abajo a excepción del alumnado de las provincias de Almería y de Sevilla que se han de presentar en el centro de referencia indicado según el ciclo formativo en el que se encuentre matriculado. \nCentros de referencia de Almería\n\nIES Aguadulce\n\nDirección: C/ Alhambra\, 11. Aguadulce (Roquetas de Mar) \nWeb: http://iesaguadulce.es/ \nPara el alumnado que haya formalizado la matrícula en alguno de los ciclos formativos de: \n• Administración y Finanzas \n• Asistencia a la Dirección \n• Desarrollo de Aplicaciones Multiplataforma \n• Desarrollo de Aplicaciones Web \n• Prevención de Riesgos Profesionales \n\nIES Alhadra\n\n\nDirección: C/ Colegios\, 7 (Almería)\nWeb: http://www.juntadeandalucia.es/averroes/alhadra/\nPara el alumnado que haya formalizado la matrícula en alguno de los ciclos formativos de:\n\n• Agencias de Viajes y Gestión de Eventos\n\n\n\n• Atención a Personas en Situación de Dependencia \n\n\n\n• Educación Infantil\n• Gestión de Ventas y Espacios Comerciales\n• Guía\, Información y Asistencias Turísticas\n• Transporte y Logística\n\n\n\n\n\nCentros de referencia de Cádiz\n\nIES Ntra. Sra. de los Remedios\n\nPara el alumnado que haya formalizado matrícula en alguno de los ciclos formativos a distancia. \nDirección: Avda. Herrera Oria\, s/n. Ubrique (Cádiz) \nWeb: http://www.ieslosremedios.org/ \n\n\nCentros de referencia de Córdoba\n\n\n\nIES El Tablero\n\n\nPara el alumnado que haya formalizado matrícula en alguno de los ciclos formativos a distancia.\nDirección: Avda. de la Arruzafilla s/n (Córdoba)\nWeb: http://www.ieseltablero.es/\n\n\n\n\n\nCentros de referencia de Granada\n\n\n\nIES La Zafra\n\n\nPara el alumnado que haya formalizado matrícula en alguno de los ciclos formativos a distancia.\nDirección: C/ Menéndez y Pelayo\, 40\, Motril (Granada)\nWeb: http://www.ieslazafra.es/\n\n\n\n\n\nCentros de referencia de Huelva\n\n\n\nIES Fuentepiña\n\n\nPara el alumnado que haya formalizado matrícula en alguno de los ciclos formativos a distancia.\nDirección: Camino del Saladillo s/n. Bda. Vista Alegre. Sect. Florida (Huelva)\nWeb: http://www.juntadeandalucia.es/averroes/centros-tic/21003712/helvia/sitio/\n\n\n\n\n\nCentros de referencia de Jaén\n\n\n\nIES Andrés de Vandelvira\n\n\nPara el alumnado que haya formalizado matrícula en alguno de los ciclos formativos a distancia.\nDirección: C/ Garnica\, 1. Baeza (Jaén)\nWeb: http://iesvandelvira.com/\n\n\n\n\n\nCentros de referencia de Málaga\n\n\n\nIES La Rosaleda\n\n\nPara el alumnado que haya formalizado matrícula en alguno de los ciclos formativos a distancia.\nDirección: Avda. Luis Buñuel\, 8 (Málaga)\nWeb: http://www.ieslarosaleda.com/\n\n\n\n\n\nCentros de referencia de Sevilla\n\n\n\nIES Camas\n\n\nDirección: Avda. Alcalde Manuel Cabello\, s/n. (Camas\, Sevilla)\nWeb: http://www.iescamas.es/\nPara el alumnado que haya formalizado la matrícula en alguno de los ciclos formativos de:\n\n• Asistencia a la Dirección\n• Desarrollo de Aplicaciones Multiplataforma\n• Desarrollo de Aplicaciones Web\n• Gestión de Ventas y Espacios Comerciales\n• Transporte y Logística\n\n\n\n\n\n\nIES Politécnico\n\n\nDirección: C/ Virgen de la Victoria\, 50 (Sevilla)\nWeb: http://iespolitecnico.blogspot.com.es/\nPara el alumnado que haya formalizado la matrícula en alguno de los ciclos formativos de:\n\n• Atención a Personas en Situación de Dependencia\n• Educación Infantil\n• Prevención de Riesgos Profesionales\n\n\n\n\n\n\nIES Los Viveros\n\n\nDirección: Avda. Blas Infante s/n (Sevilla)\nWeb: http://www.ieslosviveros.es/\nPara el alumnado que haya formalizado la matrícula en alguno de los ciclos formativos de:\n\n• Administración y Finanzas\n• Agencias de Viajes y Gestión de Eventos\n• Guía\, Información y Asistencias Turísticas\n\n\n\n\n\n\n\ntweet compartir compartir 
URL:https://web.ieslosremedios.org/event/examenes-presenciales-de-junio19-fp-a-distancia
CATEGORIES:Exámenes,Organización
END:VEVENT
END:VCALENDAR