BEGIN:VCALENDAR
VERSION:2.0
PRODID:-//IES NTRA. SRA. DE LOS REMEDIOS - ECPv5.5.0.1//NONSGML v1.0//EN
CALSCALE:GREGORIAN
METHOD:PUBLISH
X-WR-CALNAME:IES NTRA. SRA. DE LOS REMEDIOS
X-ORIGINAL-URL:https://web.ieslosremedios.org
X-WR-CALDESC:Eventos para IES NTRA. SRA. DE LOS REMEDIOS
BEGIN:VTIMEZONE
TZID:Europe/Madrid
BEGIN:DAYLIGHT
TZOFFSETFROM:+0100
TZOFFSETTO:+0200
TZNAME:CEST
DTSTART:20190331T010000
END:DAYLIGHT
BEGIN:STANDARD
TZOFFSETFROM:+0200
TZOFFSETTO:+0100
TZNAME:CET
DTSTART:20191027T010000
END:STANDARD
END:VTIMEZONE
BEGIN:VEVENT
DTSTART;VALUE=DATE:20190611
DTEND;VALUE=DATE:20190614
DTSTAMP:20260424T191905
CREATED:20181019T072602Z
LAST-MODIFIED:20190527T103507Z
UID:2523-1560211200-1560470399@web.ieslosremedios.org
SUMMARY:PEVAU (Selectividad) Junio'19
DESCRIPTION:Pruebas de Evaluación y Acceso a la Universidad. \n \nSELECTIVIDAD \nDel 11 al 13 de junio de 2019. / Del 10 al 12 de septiembre de 2019. \nPEV.A.U \n \ntweet compartir compartir 
URL:https://web.ieslosremedios.org/event/selectividad-junio18
LOCATION:IES Los Remedios
CATEGORIES:Organización
END:VEVENT
END:VCALENDAR