BEGIN:VCALENDAR
VERSION:2.0
PRODID:-//IES NTRA. SRA. DE LOS REMEDIOS - ECPv5.5.0.1//NONSGML v1.0//EN
CALSCALE:GREGORIAN
METHOD:PUBLISH
X-WR-CALNAME:IES NTRA. SRA. DE LOS REMEDIOS
X-ORIGINAL-URL:https://web.ieslosremedios.org
X-WR-CALDESC:Eventos para IES NTRA. SRA. DE LOS REMEDIOS
BEGIN:VTIMEZONE
TZID:Europe/Madrid
BEGIN:DAYLIGHT
TZOFFSETFROM:+0100
TZOFFSETTO:+0200
TZNAME:CEST
DTSTART:20190331T010000
END:DAYLIGHT
BEGIN:STANDARD
TZOFFSETFROM:+0200
TZOFFSETTO:+0100
TZNAME:CET
DTSTART:20191027T010000
END:STANDARD
END:VTIMEZONE
BEGIN:VEVENT
DTSTART;VALUE=DATE:20190701
DTEND;VALUE=DATE:20190711
DTSTAMP:20260424T174436
CREATED:20181122T100629Z
LAST-MODIFIED:20190702T110248Z
UID:4059-1561939200-1562803199@web.ieslosremedios.org
SUMMARY:Matrícula 19/20
DESCRIPTION:Período de matriculación obligatorio. \nMatrícula obligatoria del 1 al 10 de julio de 2019.\n 
URL:https://web.ieslosremedios.org/event/matricula-obligatoria
LOCATION:IES Los Remedios
CATEGORIES:Organización,Secretaría
END:VEVENT
END:VCALENDAR