BEGIN:VCALENDAR
VERSION:2.0
PRODID:-//IES NTRA. SRA. DE LOS REMEDIOS - ECPv5.5.0.1//NONSGML v1.0//EN
CALSCALE:GREGORIAN
METHOD:PUBLISH
X-WR-CALNAME:IES NTRA. SRA. DE LOS REMEDIOS
X-ORIGINAL-URL:https://web.ieslosremedios.org
X-WR-CALDESC:Eventos para IES NTRA. SRA. DE LOS REMEDIOS
BEGIN:VTIMEZONE
TZID:Europe/Madrid
BEGIN:DAYLIGHT
TZOFFSETFROM:+0100
TZOFFSETTO:+0200
TZNAME:CEST
DTSTART:20190331T010000
END:DAYLIGHT
BEGIN:STANDARD
TZOFFSETFROM:+0200
TZOFFSETTO:+0100
TZNAME:CET
DTSTART:20191027T010000
END:STANDARD
END:VTIMEZONE
BEGIN:VEVENT
DTSTART;VALUE=DATE:20190902
DTEND;VALUE=DATE:20190905
DTSTAMP:20260424T140908
CREATED:20181127T113510Z
LAST-MODIFIED:20190809T100852Z
UID:4248-1567382400-1567641599@web.ieslosremedios.org
SUMMARY:Exámenes Sep. y notas.
DESCRIPTION:Exámenes de septiembre.: DIURNO \n \nExámenes de septiembre.: ADULTOS \n \ntweet compartir compartir 
URL:https://web.ieslosremedios.org/event/examenes-extraordinarios-2
LOCATION:IES Los Remedios
CATEGORIES:Exámenes,Organización
END:VEVENT
BEGIN:VEVENT
DTSTART;VALUE=DATE:20190904
DTEND;VALUE=DATE:20190905
DTSTAMP:20260424T140908
CREATED:20190626T114052Z
LAST-MODIFIED:20190704T124635Z
UID:8903-1567555200-1567641599@web.ieslosremedios.org
SUMMARY:Juntas de Evaluación septiembre.
DESCRIPTION:9.002º Bach-B\n\n\n	9.152º Bach-C\n\n\n	9.301ºESO-A\n\n\n	9.451ºESO-B\n\n\n	10.001ºESO-C\n\n\n	10.152ºESO-A\n\n\n	10.302ºESO-B\n\n\n	10.452ºESO-C\n\n\n	11.00Descanso\n\n\n	11.303ºESO-A\n\n\n	11.453ºESO-B\n\n\n	12.003ºESO-C\n\n\n	12.153ºESO-D\n\n\n	12.304ºESO-A\n\n\n	12.454ºESO-B\n\n\n	13.004ºESO -C\n\n\n	13.151ºBachillerato-A\n\n\n	13.301ºBachillerato-B\n\n\n	13.451ºBachillerato-C\n\n\n\n\ntweet compartir compartir 
URL:https://web.ieslosremedios.org/event/juntas-de-evaluacion-septiembre
CATEGORIES:Organización,Reuniones
END:VEVENT
END:VCALENDAR