BEGIN:VCALENDAR
VERSION:2.0
PRODID:-//IES NTRA. SRA. DE LOS REMEDIOS - ECPv5.5.0.1//NONSGML v1.0//EN
CALSCALE:GREGORIAN
METHOD:PUBLISH
X-WR-CALNAME:IES NTRA. SRA. DE LOS REMEDIOS
X-ORIGINAL-URL:https://web.ieslosremedios.org
X-WR-CALDESC:Eventos para IES NTRA. SRA. DE LOS REMEDIOS
BEGIN:VTIMEZONE
TZID:Europe/Madrid
BEGIN:DAYLIGHT
TZOFFSETFROM:+0100
TZOFFSETTO:+0200
TZNAME:CEST
DTSTART:20190331T010000
END:DAYLIGHT
BEGIN:STANDARD
TZOFFSETFROM:+0200
TZOFFSETTO:+0100
TZNAME:CET
DTSTART:20191027T010000
END:STANDARD
END:VTIMEZONE
BEGIN:VEVENT
DTSTART;VALUE=DATE:20190910
DTEND;VALUE=DATE:20190913
DTSTAMP:20260424T105242
CREATED:20181220T113059Z
LAST-MODIFIED:20190607T073242Z
UID:5110-1568073600-1568332799@web.ieslosremedios.org
SUMMARY:PEVAU Septiembre 2019
DESCRIPTION:Pruebas de Evaluación y Acceso a la Universidad. \n \n \n 
URL:https://web.ieslosremedios.org/event/pevau-septiembre-2019
CATEGORIES:Calendario,Organización
END:VEVENT
END:VCALENDAR