BEGIN:VCALENDAR
VERSION:2.0
PRODID:-//IES NTRA. SRA. DE LOS REMEDIOS - ECPv5.5.0.1//NONSGML v1.0//EN
CALSCALE:GREGORIAN
METHOD:PUBLISH
X-WR-CALNAME:IES NTRA. SRA. DE LOS REMEDIOS
X-ORIGINAL-URL:https://web.ieslosremedios.org
X-WR-CALDESC:Eventos para IES NTRA. SRA. DE LOS REMEDIOS
BEGIN:VTIMEZONE
TZID:Europe/Madrid
BEGIN:DAYLIGHT
TZOFFSETFROM:+0100
TZOFFSETTO:+0200
TZNAME:CEST
DTSTART:20190331T010000
END:DAYLIGHT
BEGIN:STANDARD
TZOFFSETFROM:+0200
TZOFFSETTO:+0100
TZNAME:CET
DTSTART:20191027T010000
END:STANDARD
END:VTIMEZONE
BEGIN:VEVENT
DTSTART;TZID=Europe/Madrid:20190917T170000
DTEND;TZID=Europe/Madrid:20190917T170000
DTSTAMP:20260422T104108
CREATED:20190910T112852Z
LAST-MODIFIED:20190910T112852Z
UID:9087-1568739600-1568739600@web.ieslosremedios.org
SUMMARY:Claustro del Profesorado
DESCRIPTION:Claustro inicio de curso. \nSalón de Actos
URL:https://web.ieslosremedios.org/event/claustro-del-profesorado-3
LOCATION:Salón de Actos IES
CATEGORIES:Organización,Reuniones
END:VEVENT
BEGIN:VEVENT
DTSTART;TZID=Europe/Madrid:20190917T190000
DTEND;TZID=Europe/Madrid:20190917T190000
DTSTAMP:20260422T104108
CREATED:20190910T113205Z
LAST-MODIFIED:20190910T113205Z
UID:9089-1568746800-1568746800@web.ieslosremedios.org
SUMMARY:Consejo Escolar
DESCRIPTION:Consejo Escolar de inicio de curso.
URL:https://web.ieslosremedios.org/event/consejo-escolar-5
LOCATION:Sala de juntas
CATEGORIES:Organización,Reuniones
END:VEVENT
END:VCALENDAR