BEGIN:VCALENDAR
VERSION:2.0
PRODID:-//IES NTRA. SRA. DE LOS REMEDIOS - ECPv5.5.0.1//NONSGML v1.0//EN
CALSCALE:GREGORIAN
METHOD:PUBLISH
X-WR-CALNAME:IES NTRA. SRA. DE LOS REMEDIOS
X-ORIGINAL-URL:https://web.ieslosremedios.org
X-WR-CALDESC:Eventos para IES NTRA. SRA. DE LOS REMEDIOS
BEGIN:VTIMEZONE
TZID:Europe/Madrid
BEGIN:DAYLIGHT
TZOFFSETFROM:+0100
TZOFFSETTO:+0200
TZNAME:CEST
DTSTART:20190331T010000
END:DAYLIGHT
BEGIN:STANDARD
TZOFFSETFROM:+0200
TZOFFSETTO:+0100
TZNAME:CET
DTSTART:20191027T010000
END:STANDARD
END:VTIMEZONE
BEGIN:VEVENT
DTSTART;TZID=Europe/Madrid:20191007T180000
DTEND;TZID=Europe/Madrid:20191007T190000
DTSTAMP:20260424T123340
CREATED:20191007T093025Z
LAST-MODIFIED:20191007T093025Z
UID:9234-1570471200-1570474800@web.ieslosremedios.org
SUMMARY:Reunión Familias-Tutores 1ºESO
DESCRIPTION:
URL:https://web.ieslosremedios.org/event/reunion-familias-tutores-1oeso
LOCATION:Salón de Actos IES
CATEGORIES:Organización,Reuniones
END:VEVENT
END:VCALENDAR