BEGIN:VCALENDAR
VERSION:2.0
PRODID:-//IES NTRA. SRA. DE LOS REMEDIOS - ECPv5.5.0.1//NONSGML v1.0//EN
CALSCALE:GREGORIAN
METHOD:PUBLISH
X-WR-CALNAME:IES NTRA. SRA. DE LOS REMEDIOS
X-ORIGINAL-URL:https://web.ieslosremedios.org
X-WR-CALDESC:Eventos para IES NTRA. SRA. DE LOS REMEDIOS
BEGIN:VTIMEZONE
TZID:Europe/Madrid
BEGIN:DAYLIGHT
TZOFFSETFROM:+0100
TZOFFSETTO:+0200
TZNAME:CEST
DTSTART:20190331T010000
END:DAYLIGHT
BEGIN:STANDARD
TZOFFSETFROM:+0200
TZOFFSETTO:+0100
TZNAME:CET
DTSTART:20191027T010000
END:STANDARD
END:VTIMEZONE
BEGIN:VEVENT
DTSTART;TZID=Europe/Madrid:20191017T170000
DTEND;TZID=Europe/Madrid:20191017T170000
DTSTAMP:20260420T123343
CREATED:20191007T092413Z
LAST-MODIFIED:20191008T104814Z
UID:9230-1571331600-1571331600@web.ieslosremedios.org
SUMMARY:Reunión ETCP ampliado
DESCRIPTION:Reunión del Equipo Técnico de Coordinación pedagógica más las Jefaturas de  los departamentos didácticos. \nCoordinación de Actividades. \n\n\n\n\n	Departamentos didácticos \n\n\n\n\n	Administración / Economía / FOLDña. Montserrat de Miguel Trujillo\n\n\n	Biología y Geología Dña. Mª Ángeles Cabezas Arenas\n\n\n	DibujoD. Rafael Domínguez Romero\n\n\n	Educación Física Dña. Ana Alicia Marín Cano\n\n\n	FilosofíaDña. María Isabel Peña Burgos\n\n\n	Física y QuímicaD. Joaquín Merlo Cano\n\n\n	FrancésDña. Mercedes Gómez Angulo\n\n\n	Geografía e HistoriaD. José Luis Mancilla Angulo\n\n\n	GriegoDña. Marta Plaza Gavilán\n\n\n	InformáticaD. Juan Castillo Barco\n\n\n	InglésDña. Margari Chilla Castro \n\n\n	LatínDña. Josefa Gómez Hidalgo\n\n\n	Lengua Castellana y LiteraturaD. Pedro Bohórquez Gutiérrez\n\n\n	MatemáticasDña. Lidia Ramos Santamaría\n\n\n	MúsicaDña. Mª Pilar Rosado Ruíz\n\n\n	TecnologíaD. Isidro Maínez Venegas\n\n\n	ReligiónDña. Noelia Rojas Viruez\n\n\n\n\n\n\n\n\n	Coordinaciones y  Jefaturas de Departamentos \n\n\n\n\n	Jefe D. Actividades C. y E. (DACE)D. Juan Carlos Moreno Jiménez\n\n\n	Jefa Dpto. de OrientaciónDña.  Mercedes Márquez Ruíz\n\n\n	Coordinadora BilingüeDña. Josefina Herrera Cides\n\n\n	Coordinadora  T.I.C-PRODIG.Dña. Pilar Ramírez Pérez\n\n\n	Jefa Dpto. F.I.E. y Coordinadora G.C.Dña. Isabel Olmedo Bellido\n\n\n	Adjunta Gestión CalidadDña. Sonia Morcuende Timón\n\n\n	Coordinadora Plan Lector y BibliotecaDña. Mª Mar Márquez Román\n\n\n	Coordinador FP a DistanciaD. Manuel Contreras Iglesias\n\n\n	Coordinadora Plan Autoprotección…Dña. Beatriz Ruíz López\n\n\n	Profesora Pedagogía Terapéutica (ESO)Dña. María R. Jiménez Torres\n\n\n	Coeducación-Plan de IgualdadDña. Celia Muñoz Aparicio\n\n\n	Ubrique Blanco de PazDña. Eva Mª Calvente Gálvez\n\n\n	Coordinador FP DUALD. Julio Romero Gil\n\n\n	Coordinador Área social-lingüísticaD. Pedro Bohórquez Gutiérrez\n\n\n	Coordinadora Área científico-tecnológicaDña. Isabel Olmedo Bellido\n\n\n	Coordinadora Área artísticaDña. Mª Pilar Rosado Ruíz\n\n\n	Coordinador Área formación profesionalD. Juan Gallego García\n\n\n\n\n\n\n\n\n	Equipo Directivo \n\n\n\n\n	DirectorD. Francisco Javier García Escobedo\n\n\n	VicedirectorD. Julio Romero Gil\n\n\n	Jefa de EstudiosDª. Sonia Olid Cordero\n\n\n	Jefa de Estudios -AdultosDª. Victoria Benítez Soto\n\n\n	SecretariaDña. Mª Carmen de Miguel Trujillo\n\n\n	Jefa de Estudios - AdjuntaDª. Sonia Morcuende Simón\n\n\n	Jefe de Estudios - AdjuntoDª. Pilar Ramírez Pérez
URL:https://web.ieslosremedios.org/event/reunion-etcp-ampliado
LOCATION:Sala de juntas
CATEGORIES:Organización,Reuniones
END:VEVENT
BEGIN:VEVENT
DTSTART;TZID=Europe/Madrid:20191017T190000
DTEND;TZID=Europe/Madrid:20191017T190000
DTSTAMP:20260420T123343
CREATED:20191010T130218Z
LAST-MODIFIED:20191010T130218Z
UID:9250-1571338800-1571338800@web.ieslosremedios.org
SUMMARY:Consejo Escolar
DESCRIPTION:Consejo Escolar Ordinario.
URL:https://web.ieslosremedios.org/event/consejo-escolar-6
LOCATION:Sala de juntas
CATEGORIES:Organización,Reuniones
END:VEVENT
END:VCALENDAR